BEGIN:VCALENDAR
VERSION:2.0
PRODID:-//Sacred Heart Early Childhood Center - ECPv6.10.1//NONSGML v1.0//EN
CALSCALE:GREGORIAN
METHOD:PUBLISH
X-WR-CALNAME:Sacred Heart Early Childhood Center
X-ORIGINAL-URL:https://sacredheartecc.com
X-WR-CALDESC:Events for Sacred Heart Early Childhood Center
REFRESH-INTERVAL;VALUE=DURATION:PT1H
X-Robots-Tag:noindex
X-PUBLISHED-TTL:PT1H
BEGIN:VTIMEZONE
TZID:America/Caracas
BEGIN:STANDARD
TZOFFSETFROM:-0430
TZOFFSETTO:-0400
TZNAME:-04
DTSTART:20160501T070000
END:STANDARD
END:VTIMEZONE
BEGIN:VEVENT
DTSTART;VALUE=DATE:20170814
DTEND;VALUE=DATE:20170815
DTSTAMP:20260419T131416
CREATED:20170404T002935Z
LAST-MODIFIED:20170404T002935Z
UID:798-1502668800-1502755199@sacredheartecc.com
SUMMARY:VPK\, First Day of School
DESCRIPTION:
URL:https://sacredheartecc.com/calendar/vpk-first-day-of-school/
CATEGORIES:Daycare Event
END:VEVENT
BEGIN:VEVENT
DTSTART;TZID=America/Caracas:20170803T180000
DTEND;TZID=America/Caracas:20170803T190000
DTSTAMP:20260419T131416
CREATED:20170406T020349Z
LAST-MODIFIED:20170406T020349Z
UID:879-1501783200-1501786800@sacredheartecc.com
SUMMARY:VPK Parent Meeting
DESCRIPTION:Welcome VPK Parents!
URL:https://sacredheartecc.com/calendar/vpk-parent-meeting-2/
CATEGORIES:Daycare Event
END:VEVENT
BEGIN:VEVENT
DTSTART;TZID=America/Caracas:20170616T150000
DTEND;TZID=America/Caracas:20170616T160000
DTSTAMP:20260419T131416
CREATED:20170403T195215Z
LAST-MODIFIED:20170407T201845Z
UID:727-1497625200-1497628800@sacredheartecc.com
SUMMARY:Father's Day Celebration
DESCRIPTION:
URL:https://sacredheartecc.com/calendar/fathers-day-celebration/
CATEGORIES:Daycare Event
END:VEVENT
BEGIN:VEVENT
DTSTART;VALUE=DATE:20170526
DTEND;VALUE=DATE:20170527
DTSTAMP:20260419T131416
CREATED:20170403T194406Z
LAST-MODIFIED:20170403T194406Z
UID:716-1495756800-1495843199@sacredheartecc.com
SUMMARY:Last Day of VPK; Public Schools Last Day
DESCRIPTION:
URL:https://sacredheartecc.com/calendar/last-day-of-vpk-public-schools-last-day/
CATEGORIES:Daycare Event,School Events
END:VEVENT
BEGIN:VEVENT
DTSTART;TZID=America/Caracas:20170517T184500
DTEND;TZID=America/Caracas:20170517T194500
DTSTAMP:20260419T131416
CREATED:20170403T194245Z
LAST-MODIFIED:20170407T200410Z
UID:713-1495046700-1495050300@sacredheartecc.com
SUMMARY:Pre School Graduation
DESCRIPTION:
URL:https://sacredheartecc.com/calendar/pre-school-graduation/
LOCATION:Sacred Heart Catholic Church\, 32145 Saint Joe Road\, Dade City\, FL\, 33525
CATEGORIES:Daycare Event
END:VEVENT
BEGIN:VEVENT
DTSTART;TZID=America/Caracas:20170512T150000
DTEND;TZID=America/Caracas:20170512T160000
DTSTAMP:20260419T131416
CREATED:20170403T195131Z
LAST-MODIFIED:20170407T201932Z
UID:725-1494601200-1494604800@sacredheartecc.com
SUMMARY:Mother's Day Tea
DESCRIPTION:
URL:https://sacredheartecc.com/calendar/mothers-day-tea/
CATEGORIES:Daycare Event
END:VEVENT
BEGIN:VEVENT
DTSTART;TZID=America/Caracas:20170425T114500
DTEND;TZID=America/Caracas:20170425T121500
DTSTAMP:20260419T131416
CREATED:20170410T181608Z
LAST-MODIFIED:20170410T190441Z
UID:964-1493120700-1493122500@sacredheartecc.com
SUMMARY:St. Anthony Catholic School Intro and Q&A
DESCRIPTION:VPK Classes – \nSr. Alice Ottapurackal\, F.S.S.E\, Principal of St. Anthony Catholic School\, will be onsite to provide information on St. Anthony Catholic School for upcoming kindergarteners. She will also field any questions from parents.
URL:https://sacredheartecc.com/calendar/st-anthony-catholic-school-intro-and-qa-vpk-classes/
CATEGORIES:Daycare Event,School Events
END:VEVENT
BEGIN:VEVENT
DTSTART;VALUE=DATE:20170420
DTEND;VALUE=DATE:20170421
DTSTAMP:20260419T131416
CREATED:20170403T194001Z
LAST-MODIFIED:20170407T202009Z
UID:711-1492646400-1492732799@sacredheartecc.com
SUMMARY:St. Jude Trike-A-Thon
DESCRIPTION:
URL:https://sacredheartecc.com/calendar/st-jude-trike-a-thon/
CATEGORIES:Daycare Event,Fundraisers
END:VEVENT
BEGIN:VEVENT
DTSTART;TZID=America/Caracas:20170413T090000
DTEND;TZID=America/Caracas:20170413T093000
DTSTAMP:20260419T131416
CREATED:20170403T190429Z
LAST-MODIFIED:20170403T190429Z
UID:705-1492074000-1492075800@sacredheartecc.com
SUMMARY:SHECC Easter Egg Hunt
DESCRIPTION:
URL:https://sacredheartecc.com/calendar/shecc-easter-egg-hunt/
CATEGORIES:Daycare Event
END:VEVENT
BEGIN:VEVENT
DTSTART;TZID=America/Caracas:20170303T173000
DTEND;TZID=America/Caracas:20170303T193000
DTSTAMP:20260419T131416
CREATED:20170403T185814Z
LAST-MODIFIED:20170407T201610Z
UID:694-1488562200-1488569400@sacredheartecc.com
SUMMARY:Lenten Fish Fry
DESCRIPTION:
URL:https://sacredheartecc.com/calendar/lenten-fish-fry-4/
CATEGORIES:Daycare Event,Fundraisers
END:VEVENT
BEGIN:VEVENT
DTSTART;VALUE=DATE:20160617
DTEND;VALUE=DATE:20160618
DTSTAMP:20260419T131416
CREATED:20150613T175721Z
LAST-MODIFIED:20150613T175721Z
UID:661-1466121600-1466207999@sacredheartecc.com
SUMMARY:Father’s Day Luncheon
DESCRIPTION:
URL:https://sacredheartecc.com/calendar/fathers-day-luncheon/
CATEGORIES:Daycare Event
END:VEVENT
BEGIN:VEVENT
DTSTART;VALUE=DATE:20160603
DTEND;VALUE=DATE:20160604
DTSTAMP:20260419T131416
CREATED:20150613T175626Z
LAST-MODIFIED:20150613T175626Z
UID:659-1464912000-1464998399@sacredheartecc.com
SUMMARY:Last Day of VPK
DESCRIPTION:
URL:https://sacredheartecc.com/calendar/last-day-of-vpk/
CATEGORIES:Daycare Event,School Events
END:VEVENT
BEGIN:VEVENT
DTSTART;VALUE=DATE:20160530
DTEND;VALUE=DATE:20160531
DTSTAMP:20260419T131416
CREATED:20150613T175550Z
LAST-MODIFIED:20150613T175550Z
UID:658-1464566400-1464652799@sacredheartecc.com
SUMMARY:SAS\, SAES & SHECC CLOSED\, Memorial Day
DESCRIPTION:
URL:https://sacredheartecc.com/calendar/sas-saes-shecc-closed-memorial-day/
CATEGORIES:Daycare Closings,Daycare Event,School Closings,School Events
END:VEVENT
BEGIN:VEVENT
DTSTART;VALUE=DATE:20160518
DTEND;VALUE=DATE:20160519
DTSTAMP:20260419T131416
CREATED:20150613T175521Z
LAST-MODIFIED:20150613T175521Z
UID:657-1463529600-1463615999@sacredheartecc.com
SUMMARY:Pre-School Graduation\, 6:45 p.m.
DESCRIPTION:
URL:https://sacredheartecc.com/calendar/pre-school-graduation-645-p-m/
CATEGORIES:Daycare Event
END:VEVENT
BEGIN:VEVENT
DTSTART;VALUE=DATE:20160506
DTEND;VALUE=DATE:20160507
DTSTAMP:20260419T131416
CREATED:20150613T175454Z
LAST-MODIFIED:20150613T175454Z
UID:656-1462492800-1462579199@sacredheartecc.com
SUMMARY:Mother’s Day Luncheon
DESCRIPTION:
URL:https://sacredheartecc.com/calendar/mothers-day-luncheon/
CATEGORIES:Daycare Event
END:VEVENT
BEGIN:VEVENT
DTSTART;VALUE=DATE:20160414
DTEND;VALUE=DATE:20160415
DTSTAMP:20260419T131416
CREATED:20150613T175421Z
LAST-MODIFIED:20150613T175428Z
UID:655-1460592000-1460678399@sacredheartecc.com
SUMMARY:Trike-A-Thon
DESCRIPTION:
URL:https://sacredheartecc.com/calendar/trike-a-thon/
CATEGORIES:Daycare Event,Fundraisers
END:VEVENT
BEGIN:VEVENT
DTSTART;VALUE=DATE:20160321
DTEND;VALUE=DATE:20160329
DTSTAMP:20260419T131416
CREATED:20150613T175215Z
LAST-MODIFIED:20150613T175215Z
UID:651-1458518400-1459209599@sacredheartecc.com
SUMMARY:No VPK (SHECC Open except 25th)
DESCRIPTION:
URL:https://sacredheartecc.com/calendar/no-vpk-shecc-open-except-25th/
CATEGORIES:Daycare Event,School Events
END:VEVENT
BEGIN:VEVENT
DTSTART;VALUE=DATE:20160311
DTEND;VALUE=DATE:20160312
DTSTAMP:20260419T131416
CREATED:20150613T175053Z
LAST-MODIFIED:20150613T175053Z
UID:650-1457654400-1457740799@sacredheartecc.com
SUMMARY:Lenten Fish Fry
DESCRIPTION:
URL:https://sacredheartecc.com/calendar/lenten-fish-fry-3/
CATEGORIES:Daycare Event,Fundraisers
END:VEVENT
BEGIN:VEVENT
DTSTART;VALUE=DATE:20160226
DTEND;VALUE=DATE:20160227
DTSTAMP:20260419T131416
CREATED:20150613T175008Z
LAST-MODIFIED:20150613T175008Z
UID:649-1456444800-1456531199@sacredheartecc.com
SUMMARY:Lenten Fish Fry
DESCRIPTION:
URL:https://sacredheartecc.com/calendar/lenten-fish-fry-2/
CATEGORIES:Daycare Event,Fundraisers
END:VEVENT
BEGIN:VEVENT
DTSTART;VALUE=DATE:20160212
DTEND;VALUE=DATE:20160213
DTSTAMP:20260419T131416
CREATED:20150613T174836Z
LAST-MODIFIED:20150613T174836Z
UID:646-1455235200-1455321599@sacredheartecc.com
SUMMARY:Lenten Fish Fry
DESCRIPTION:
URL:https://sacredheartecc.com/calendar/lenten-fish-fry/
CATEGORIES:Daycare Event,Fundraisers
END:VEVENT
BEGIN:VEVENT
DTSTART;VALUE=DATE:20160207
DTEND;VALUE=DATE:20160213
DTSTAMP:20260419T131416
CREATED:20150613T174744Z
LAST-MODIFIED:20150613T174744Z
UID:644-1454803200-1455321599@sacredheartecc.com
SUMMARY:Basket Fundraiser Drawing @ Ham and Turkey Dinner
DESCRIPTION:
URL:https://sacredheartecc.com/calendar/basket-fundraiser-drawing-ham-and-turkey-dinner/
CATEGORIES:Daycare Event,Fundraisers
END:VEVENT
BEGIN:VEVENT
DTSTART;VALUE=DATE:20151221
DTEND;VALUE=DATE:20160102
DTSTAMP:20260419T131416
CREATED:20150613T174152Z
LAST-MODIFIED:20150613T174152Z
UID:635-1450656000-1451692799@sacredheartecc.com
SUMMARY:No VPK  (SHECC OPEN 21\, 22\, 23\, 28\, 29 & 30)
DESCRIPTION:
URL:https://sacredheartecc.com/calendar/no-vpk-shecc-open-21-22-23-28-29-30/
CATEGORIES:Daycare Event,School Closings
END:VEVENT
BEGIN:VEVENT
DTSTART;VALUE=DATE:20151215
DTEND;VALUE=DATE:20151216
DTSTAMP:20260419T131416
CREATED:20150613T174113Z
LAST-MODIFIED:20150613T174113Z
UID:634-1450137600-1450223999@sacredheartecc.com
SUMMARY:Christmas Program and Party
DESCRIPTION:
URL:https://sacredheartecc.com/calendar/christmas-program-and-party/
CATEGORIES:Daycare Event
END:VEVENT
BEGIN:VEVENT
DTSTART;VALUE=DATE:20151210
DTEND;VALUE=DATE:20151211
DTSTAMP:20260419T131416
CREATED:20150613T174033Z
LAST-MODIFIED:20150613T174033Z
UID:633-1449705600-1449791999@sacredheartecc.com
SUMMARY:Parent Appreciation Night
DESCRIPTION:
URL:https://sacredheartecc.com/calendar/parent-appreciation-night/
CATEGORIES:Daycare Event
END:VEVENT
BEGIN:VEVENT
DTSTART;VALUE=DATE:20151123
DTEND;VALUE=DATE:20151126
DTSTAMP:20260419T131416
CREATED:20150613T173722Z
LAST-MODIFIED:20150613T173722Z
UID:629-1448236800-1448495999@sacredheartecc.com
SUMMARY:No VPK (SHECC OPEN)
DESCRIPTION:
URL:https://sacredheartecc.com/calendar/no-vpk-shecc-open/
CATEGORIES:Daycare Event
END:VEVENT
BEGIN:VEVENT
DTSTART;VALUE=DATE:20151120
DTEND;VALUE=DATE:20151121
DTSTAMP:20260419T131416
CREATED:20150613T173626Z
LAST-MODIFIED:20150613T173626Z
UID:628-1447977600-1448063999@sacredheartecc.com
SUMMARY:Thanksgiving Soup Luncheon
DESCRIPTION:
URL:https://sacredheartecc.com/calendar/thanksgiving-soup-luncheon/
CATEGORIES:Daycare Event
END:VEVENT
BEGIN:VEVENT
DTSTART;VALUE=DATE:20151001
DTEND;VALUE=DATE:20151101
DTSTAMP:20260419T131416
CREATED:20150613T173539Z
LAST-MODIFIED:20150613T173539Z
UID:626-1443657600-1446335999@sacredheartecc.com
SUMMARY:Fall Photos
DESCRIPTION:
URL:https://sacredheartecc.com/calendar/fall-photos/
CATEGORIES:Daycare Event
END:VEVENT
BEGIN:VEVENT
DTSTART;TZID=America/Caracas:20150911T180000
DTEND;TZID=America/Caracas:20150911T200000
DTSTAMP:20260419T131416
CREATED:20150630T133352Z
LAST-MODIFIED:20150630T133352Z
UID:670-1441994400-1442001600@sacredheartecc.com
SUMMARY:PTA Covered Dish Dinner
DESCRIPTION:All Families of SHECC please come and bring your favorite dish to share to our PTA Covered Dish Dinner\, Friday\, September 11\, 2015\, 6-8 pm. Meet other families and staff and enjoy an evening of fellowship. Please RSVP by September 1\, 2015. We look forward to seeing you there.
URL:https://sacredheartecc.com/calendar/pta-covered-dish-dinner/
CATEGORIES:Daycare Event
END:VEVENT
BEGIN:VEVENT
DTSTART;VALUE=DATE:20150827
DTEND;VALUE=DATE:20150828
DTSTAMP:20260419T131416
CREATED:20150611T183314Z
LAST-MODIFIED:20150611T183314Z
UID:612-1440633600-1440719999@sacredheartecc.com
SUMMARY:Open House
DESCRIPTION:
URL:https://sacredheartecc.com/calendar/open-house/
CATEGORIES:Daycare Event
END:VEVENT
BEGIN:VEVENT
DTSTART;VALUE=DATE:20150824
DTEND;VALUE=DATE:20150825
DTSTAMP:20260419T131416
CREATED:20150613T173122Z
LAST-MODIFIED:20150613T173122Z
UID:618-1440374400-1440460799@sacredheartecc.com
SUMMARY:First Day of VPK
DESCRIPTION:
URL:https://sacredheartecc.com/calendar/first-day-of-vpk/
CATEGORIES:Daycare Event
END:VEVENT
END:VCALENDAR