BEGIN:VCALENDAR
VERSION:2.0
PRODID:-//Sacred Heart Early Childhood Center - ECPv6.10.1//NONSGML v1.0//EN
CALSCALE:GREGORIAN
METHOD:PUBLISH
X-ORIGINAL-URL:https://sacredheartecc.com
X-WR-CALDESC:Events for Sacred Heart Early Childhood Center
REFRESH-INTERVAL;VALUE=DURATION:PT1H
X-Robots-Tag:noindex
X-PUBLISHED-TTL:PT1H
BEGIN:VTIMEZONE
TZID:America/Caracas
BEGIN:STANDARD
TZOFFSETFROM:-0400
TZOFFSETTO:-0400
TZNAME:-04
DTSTART:20170101T000000
END:STANDARD
END:VTIMEZONE
BEGIN:VEVENT
DTSTART;TZID=America/Caracas:20180820T080000
DTEND;TZID=America/Caracas:20180907T170000
DTSTAMP:20260419T083230
CREATED:20180824T162741Z
LAST-MODIFIED:20180824T162807Z
UID:3109-1534752000-1536339600@sacredheartecc.com
SUMMARY:Cookie Dough Fundraiser
DESCRIPTION:We are sponsoring a fundraiser featuring delicious gourmet cookies and treats\, candles\, wrapping paper\, kitchen gadgets and more! Please let your friends\, relatives\, neighbors and co-workers. \nTake orders with the packet you received or shop online at www.fundshoppe.com | School ID 1121 \n**For every 10 items sold (including online)\, you will receive a free box of chocolate chip cookies | Item 8001\n**TOP SELLER receives any item selected from the Friends & Family catalog or online items. \nSELL 10 ITEMS AND BE ENTERED IN DRAWING FOR $100 TUITION CREDIT.  \nTHANK YOU FOR YOUR SUPPORT!
URL:https://sacredheartecc.com/calendar/cookie-dough-fundraiser-2/
CATEGORIES:Daycare Event,Fundraisers
ATTACH;FMTTYPE=image/png:https://sacredheartecc.com/wp-content/uploads/2018/08/cookie_logo.png
END:VEVENT
BEGIN:VEVENT
DTSTART;VALUE=DATE:20180813
DTEND;VALUE=DATE:20180814
DTSTAMP:20260419T083230
CREATED:20180520T154128Z
LAST-MODIFIED:20180520T154128Z
UID:2538-1534118400-1534204799@sacredheartecc.com
SUMMARY:SAES & VPK\, First Day of School
DESCRIPTION:
URL:https://sacredheartecc.com/calendar/saes-vpk-first-day-of-school/
CATEGORIES:Daycare Event,School Events
END:VEVENT
BEGIN:VEVENT
DTSTART;TZID=America/Caracas:20180808T180000
DTEND;TZID=America/Caracas:20180808T190000
DTSTAMP:20260419T083230
CREATED:20180520T153321Z
LAST-MODIFIED:20180522T024611Z
UID:2522-1533751200-1533754800@sacredheartecc.com
SUMMARY:VPK Parent Meeting
DESCRIPTION:Welcome VPK Parents!
URL:https://sacredheartecc.com/calendar/vpk-parent-meeting-3/
CATEGORIES:Daycare Event
ATTACH;FMTTYPE=image/jpeg:https://sacredheartecc.com/wp-content/uploads/2018/05/welcome2-460x230.jpg
END:VEVENT
BEGIN:VEVENT
DTSTART;VALUE=DATE:20180709
DTEND;VALUE=DATE:20180710
DTSTAMP:20260419T083230
CREATED:20180521T020302Z
LAST-MODIFIED:20180629T204945Z
UID:2681-1531094400-1531180799@sacredheartecc.com
SUMMARY:St. Jude Trike-A-Thon
DESCRIPTION:Summer Campers: Be sure to bring your bicycle and your helmet to participate in this fundraising efforts to benefit St. Jude. Packets are available near the sign in/out log so that you can get sponsors for this event.
URL:https://sacredheartecc.com/calendar/st-jude-trike-a-thon-3/
CATEGORIES:Daycare Event,Fundraisers
END:VEVENT
BEGIN:VEVENT
DTSTART;VALUE=DATE:20180615
DTEND;VALUE=DATE:20180616
DTSTAMP:20260419T083230
CREATED:20170406T024438Z
LAST-MODIFIED:20180328T185830Z
UID:930-1529020800-1529107199@sacredheartecc.com
SUMMARY:Father's Day Luncheon
DESCRIPTION:
URL:https://sacredheartecc.com/calendar/fathers-day-luncheon-2/
CATEGORIES:Daycare Event
ATTACH;FMTTYPE=image/jpeg:https://sacredheartecc.com/wp-content/uploads/2017/04/happy-fathers-day-2014-greeting-cards1-e1522265290200.jpg
END:VEVENT
BEGIN:VEVENT
DTSTART;VALUE=DATE:20180524
DTEND;VALUE=DATE:20180525
DTSTAMP:20260419T083230
CREATED:20170406T024352Z
LAST-MODIFIED:20170406T024352Z
UID:928-1527120000-1527206399@sacredheartecc.com
SUMMARY:Last Day of VPK
DESCRIPTION:
URL:https://sacredheartecc.com/calendar/last-day-of-vpk-2/
CATEGORIES:Daycare Event
END:VEVENT
BEGIN:VEVENT
DTSTART;VALUE=DATE:20180511
DTEND;VALUE=DATE:20180512
DTSTAMP:20260419T083230
CREATED:20170406T024306Z
LAST-MODIFIED:20180328T185116Z
UID:926-1525996800-1526083199@sacredheartecc.com
SUMMARY:Mother's Day Luncheon
DESCRIPTION:
URL:https://sacredheartecc.com/calendar/mothers-day-luncheon-2/
CATEGORIES:Daycare Event
ATTACH;FMTTYPE=image/png:https://sacredheartecc.com/wp-content/uploads/2017/04/Mothers-Day-8x10-Picture-e1522264839455.png
END:VEVENT
BEGIN:VEVENT
DTSTART;TZID=America/Caracas:20180509T184500
DTEND;TZID=America/Caracas:20180509T194500
DTSTAMP:20260419T083230
CREATED:20170406T024204Z
LAST-MODIFIED:20180406T123928Z
UID:924-1525891500-1525895100@sacredheartecc.com
SUMMARY:VPK Pre School Graduation
DESCRIPTION:
URL:https://sacredheartecc.com/calendar/pre-school-graduation-2/
LOCATION:Sacred Heart Catholic Church\, 32145 Saint Joe Road\, Dade City\, FL\, 33525
CATEGORIES:Daycare Event
END:VEVENT
BEGIN:VEVENT
DTSTART;VALUE=DATE:20180419
DTEND;VALUE=DATE:20180420
DTSTAMP:20260419T083230
CREATED:20170406T023918Z
LAST-MODIFIED:20180205T150045Z
UID:920-1524096000-1524182399@sacredheartecc.com
SUMMARY:St. Jude Trike-a-thon
DESCRIPTION:
URL:https://sacredheartecc.com/calendar/st-jude-trike-a-thon-2/
CATEGORIES:Daycare Event,Fundraisers
ATTACH;FMTTYPE=image/jpeg:https://sacredheartecc.com/wp-content/uploads/2017/04/trike_a_thon_slide-e1517841032164.jpg
END:VEVENT
BEGIN:VEVENT
DTSTART;VALUE=DATE:20180329
DTEND;VALUE=DATE:20180330
DTSTAMP:20260419T083230
CREATED:20180111T230305Z
LAST-MODIFIED:20180111T230305Z
UID:2120-1522281600-1522367999@sacredheartecc.com
SUMMARY:Spring Photos
DESCRIPTION:Individual (and Siblings) Photos will be taken in the morning. Check with your teacher for your assigned day and time.
URL:https://sacredheartecc.com/calendar/spring-photos-3/
CATEGORIES:Daycare Event
ATTACH;FMTTYPE=image/jpeg:https://sacredheartecc.com/wp-content/uploads/2018/01/picture_day-e1515709867320.jpg
END:VEVENT
BEGIN:VEVENT
DTSTART;VALUE=DATE:20180329
DTEND;VALUE=DATE:20180330
DTSTAMP:20260419T083230
CREATED:20180111T224728Z
LAST-MODIFIED:20180111T224728Z
UID:2089-1522281600-1522367999@sacredheartecc.com
SUMMARY:Easter Egg Hunt
DESCRIPTION:
URL:https://sacredheartecc.com/calendar/easter-egg-hunt/
CATEGORIES:Daycare Event
ATTACH;FMTTYPE=image/jpeg:https://sacredheartecc.com/wp-content/uploads/2018/01/Egg-Hunt-735x400-e1515709164706.jpg
END:VEVENT
BEGIN:VEVENT
DTSTART;VALUE=DATE:20180328
DTEND;VALUE=DATE:20180329
DTSTAMP:20260419T083230
CREATED:20180111T230232Z
LAST-MODIFIED:20180111T230232Z
UID:2114-1522195200-1522281599@sacredheartecc.com
SUMMARY:Spring Photos
DESCRIPTION:Individual (and Siblings) Photos will be taken in the morning. Check with your teacher for your assigned day and time.
URL:https://sacredheartecc.com/calendar/spring-photos-2/
CATEGORIES:Daycare Event
ATTACH;FMTTYPE=image/jpeg:https://sacredheartecc.com/wp-content/uploads/2018/01/picture_day-e1515709867320.jpg
END:VEVENT
BEGIN:VEVENT
DTSTART;VALUE=DATE:20180326
DTEND;VALUE=DATE:20180327
DTSTAMP:20260419T083230
CREATED:20180111T230123Z
LAST-MODIFIED:20180111T230334Z
UID:2107-1522022400-1522108799@sacredheartecc.com
SUMMARY:Spring Photos
DESCRIPTION:Individual (and Siblings) Photos will be taken in the morning. Check with your teacher for your assigned day and time.
URL:https://sacredheartecc.com/calendar/spring-photos/
CATEGORIES:Daycare Event
ATTACH;FMTTYPE=image/jpeg:https://sacredheartecc.com/wp-content/uploads/2018/01/picture_day-e1515709867320.jpg
END:VEVENT
BEGIN:VEVENT
DTSTART;TZID=America/Caracas:20180319T080000
DTEND;TZID=America/Caracas:20180323T173000
DTSTAMP:20260419T083230
CREATED:20180111T224610Z
LAST-MODIFIED:20180111T224610Z
UID:2081-1521446400-1521826200@sacredheartecc.com
SUMMARY:Spring Book Fair
DESCRIPTION:
URL:https://sacredheartecc.com/calendar/spring-book-fair/
CATEGORIES:Daycare Event,Fundraisers
ATTACH;FMTTYPE=image/png:https://sacredheartecc.com/wp-content/uploads/2018/01/BookFair.png
END:VEVENT
BEGIN:VEVENT
DTSTART;VALUE=DATE:20180319
DTEND;VALUE=DATE:20180324
DTSTAMP:20260419T083230
CREATED:20170406T023458Z
LAST-MODIFIED:20170925T141225Z
UID:914-1521417600-1521849599@sacredheartecc.com
SUMMARY:No VPK | Spring Break (SHECC Open)
DESCRIPTION:Full Day Care Available
URL:https://sacredheartecc.com/calendar/no-vpk-shecc-open-4/
CATEGORIES:Daycare Event
END:VEVENT
BEGIN:VEVENT
DTSTART;TZID=America/Caracas:20180316T173000
DTEND;TZID=America/Caracas:20180316T193000
DTSTAMP:20260419T083230
CREATED:20170406T023316Z
LAST-MODIFIED:20180119T193113Z
UID:912-1521221400-1521228600@sacredheartecc.com
SUMMARY:Lenten Fish Fry
DESCRIPTION:Adults $9\nChildren $6
URL:https://sacredheartecc.com/calendar/lenten-fish-fry-9/
LOCATION:Sacred Heart Catholic Church\, 32145 Saint Joe Road\, Dade City\, FL\, 33525
CATEGORIES:Daycare Event,Fundraisers
ATTACH;FMTTYPE=image/png:https://sacredheartecc.com/wp-content/uploads/2017/04/LFF-e1516388326173.png
END:VEVENT
BEGIN:VEVENT
DTSTART;TZID=America/Caracas:20180302T173000
DTEND;TZID=America/Caracas:20180302T193000
DTSTAMP:20260419T083230
CREATED:20170406T023224Z
LAST-MODIFIED:20180119T193226Z
UID:910-1520011800-1520019000@sacredheartecc.com
SUMMARY:Lenten Fish Fry
DESCRIPTION:Adults $9\nChildren $6
URL:https://sacredheartecc.com/calendar/lenten-fish-fry-8/
LOCATION:Sacred Heart Catholic Church\, 32145 Saint Joe Road\, Dade City\, FL\, 33525
CATEGORIES:Daycare Event,Fundraisers
ATTACH;FMTTYPE=image/png:https://sacredheartecc.com/wp-content/uploads/2017/04/LFF-e1516388326173.png
END:VEVENT
BEGIN:VEVENT
DTSTART;TZID=America/Caracas:20180216T173000
DTEND;TZID=America/Caracas:20180216T193000
DTSTAMP:20260419T083230
CREATED:20170406T023138Z
LAST-MODIFIED:20180119T193042Z
UID:908-1518802200-1518809400@sacredheartecc.com
SUMMARY:Lenten Fish Fry
DESCRIPTION:Adults $9\nChildren $6
URL:https://sacredheartecc.com/calendar/lenten-fish-fry-7/
LOCATION:Sacred Heart Catholic Church\, 32145 Saint Joe Road\, Dade City\, FL\, 33525
CATEGORIES:Daycare Event,Fundraisers
ATTACH;FMTTYPE=image/png:https://sacredheartecc.com/wp-content/uploads/2017/04/LFF-e1516388326173.png
END:VEVENT
BEGIN:VEVENT
DTSTART;TZID=America/Caracas:20180204T113000
DTEND;TZID=America/Caracas:20180204T143000
DTSTAMP:20260419T083230
CREATED:20170406T022836Z
LAST-MODIFIED:20171103T203225Z
UID:904-1517743800-1517754600@sacredheartecc.com
SUMMARY:Basket Fundraiser Drawing at Ham & Turkey Dinner
DESCRIPTION:We appreciate your support during this annual fundraiser. We are seeking donations of gift baskets for our raffle. We always have a great variety to choose from. And … don’t forget to pick up your raffle tickets for a chance to win.
URL:https://sacredheartecc.com/calendar/basket-fundraiser-drawing-at-ham-turkey-dinner/
LOCATION:Sacred Heart Catholic Church\, 32145 Saint Joe Road\, Dade City\, FL\, 33525
CATEGORIES:Daycare Event,Fundraisers
END:VEVENT
BEGIN:VEVENT
DTSTART;VALUE=DATE:20180128
DTEND;VALUE=DATE:20180204
DTSTAMP:20260419T083230
CREATED:20170406T022703Z
LAST-MODIFIED:20180111T225753Z
UID:902-1517097600-1517702399@sacredheartecc.com
SUMMARY:Catholic Schools Week
DESCRIPTION:Monday – Opening Prayer & Songs\nTuesday – Parent Appreciation Day\nWednesday – Story Book Character Day\n(Come dressed as favorite story book character … with the book)\nThursday – Staff Appreciation Day\nFriday – PJ and Teddy Bear Day
URL:https://sacredheartecc.com/calendar/catholic-schools-week-2/
CATEGORIES:Daycare Event
ATTACH;FMTTYPE=image/jpeg:https://sacredheartecc.com/wp-content/uploads/2017/04/catholic-schools-week.jpg
END:VEVENT
BEGIN:VEVENT
DTSTART;TZID=America/Caracas:20180127T090000
DTEND;TZID=America/Caracas:20180127T170000
DTSTAMP:20260419T083230
CREATED:20170406T022611Z
LAST-MODIFIED:20180119T150408Z
UID:900-1517043600-1517072400@sacredheartecc.com
SUMMARY:Kumquat Festival
DESCRIPTION:Please pencil in this Daycare Fundraiser. Show your support by assisting during the day at our booth.  (Our booth is located each year at the southeast corner of Meridian and 6th.)
URL:https://sacredheartecc.com/calendar/kumquat-festival-2/
CATEGORIES:Daycare Event,Fundraisers
ATTACH;FMTTYPE=image/jpeg:https://sacredheartecc.com/wp-content/uploads/2017/04/kumquatfestival.jpg
END:VEVENT
BEGIN:VEVENT
DTSTART;TZID=America/Caracas:20180117T080000
DTEND;TZID=America/Caracas:20180117T093000
DTSTAMP:20260419T083230
CREATED:20180111T225354Z
LAST-MODIFIED:20180111T225354Z
UID:2093-1516176000-1516181400@sacredheartecc.com
SUMMARY:Class Group Picture Day
DESCRIPTION:
URL:https://sacredheartecc.com/calendar/class-group-picture-day/
CATEGORIES:Daycare Event
ATTACH;FMTTYPE=image/jpeg:https://sacredheartecc.com/wp-content/uploads/2018/01/PictureDay-e1515709397754.jpg
END:VEVENT
BEGIN:VEVENT
DTSTART;VALUE=DATE:20180101
DTEND;VALUE=DATE:20180106
DTSTAMP:20260419T083230
CREATED:20170406T022119Z
LAST-MODIFIED:20170406T022119Z
UID:898-1514764800-1515196799@sacredheartecc.com
SUMMARY:No VPK\, CHRISTMAS Break (SHECC Open 2nd-5th)
DESCRIPTION:Full Day Care Available Some Days
URL:https://sacredheartecc.com/calendar/no-vpk-christmas-break-shecc-open-2nd-5th/
CATEGORIES:Daycare Event
END:VEVENT
BEGIN:VEVENT
DTSTART;VALUE=DATE:20171225
DTEND;VALUE=DATE:20171230
DTSTAMP:20260419T083230
CREATED:20170406T021948Z
LAST-MODIFIED:20170406T022242Z
UID:896-1514160000-1514591999@sacredheartecc.com
SUMMARY:No VPK\, CHRISTMAS Break (SHECC Open 27th- 29th)
DESCRIPTION:Full Day Care Available Some Days
URL:https://sacredheartecc.com/calendar/no-vpk-christmas-break-shecc-open-27th-29th/
CATEGORIES:Daycare Event
END:VEVENT
BEGIN:VEVENT
DTSTART;VALUE=DATE:20171222
DTEND;VALUE=DATE:20171223
DTSTAMP:20260419T083230
CREATED:20171016T201709Z
LAST-MODIFIED:20171103T200011Z
UID:1937-1513900800-1513987199@sacredheartecc.com
SUMMARY:Class Christmas Cookie Parties
DESCRIPTION:More information will be provided by your child’s teacher.
URL:https://sacredheartecc.com/calendar/class-cookie-party/
CATEGORIES:Daycare Event
END:VEVENT
BEGIN:VEVENT
DTSTART;TZID=America/Caracas:20171213T184500
DTEND;TZID=America/Caracas:20171213T193000
DTSTAMP:20260419T083230
CREATED:20171016T201632Z
LAST-MODIFIED:20171018T190440Z
UID:1933-1513190700-1513193400@sacredheartecc.com
SUMMARY:VPK Christmas Program
DESCRIPTION:Join our VPK classes while they present their Christmas Program of songs. \n*Due to fire safety rules\, please limit guests to 6 per student.
URL:https://sacredheartecc.com/calendar/vpk-christmas-program/
LOCATION:Sacred Heart Catholic Church\, 32145 Saint Joe Road\, Dade City\, FL\, 33525
CATEGORIES:Daycare Event
END:VEVENT
BEGIN:VEVENT
DTSTART;TZID=America/Caracas:20171207T173000
DTEND;TZID=America/Caracas:20171207T210000
DTSTAMP:20260419T083230
CREATED:20170406T021712Z
LAST-MODIFIED:20171103T203021Z
UID:894-1512667800-1512680400@sacredheartecc.com
SUMMARY:Parent Appreciation Night
DESCRIPTION:Bring your children while you take some time for yourself. This is our thanks to you. Siblings that do not attend SHECC are welcome to stay as well. The cost for them is $10 per child.
URL:https://sacredheartecc.com/calendar/parent-appreciation-night-2/
CATEGORIES:Daycare Event
END:VEVENT
BEGIN:VEVENT
DTSTART;TZID=America/Caracas:20171117T110000
DTEND;TZID=America/Caracas:20171117T130000
DTSTAMP:20260419T083230
CREATED:20170406T021501Z
LAST-MODIFIED:20171103T200102Z
UID:890-1510916400-1510923600@sacredheartecc.com
SUMMARY:Thanksgiving Soup Luncheon
DESCRIPTION:Please join us while we gather for our Thanksgiving Luncheon. We love our families!
URL:https://sacredheartecc.com/calendar/thanksgiving-soup-luncheon-2/
CATEGORIES:Daycare Event
END:VEVENT
BEGIN:VEVENT
DTSTART;TZID=America/Caracas:20171028T100000
DTEND;TZID=America/Caracas:20171028T160000
DTSTAMP:20260419T083230
CREATED:20170406T021406Z
LAST-MODIFIED:20170925T140311Z
UID:888-1509184800-1509206400@sacredheartecc.com
SUMMARY:Sacred Heart Church Fall Festival
DESCRIPTION:
URL:https://sacredheartecc.com/calendar/sacred-heart-church-fall-festival/
LOCATION:Sacred Heart Catholic Church\, 32145 Saint Joe Road\, Dade City\, FL\, 33525
CATEGORIES:Daycare Event,Fundraisers
END:VEVENT
BEGIN:VEVENT
DTSTART;VALUE=DATE:20171009
DTEND;VALUE=DATE:20171010
DTSTAMP:20260419T083230
CREATED:20170406T020923Z
LAST-MODIFIED:20170925T140444Z
UID:885-1507507200-1507593599@sacredheartecc.com
SUMMARY:VPK (Hurricane Makeup Day)
DESCRIPTION:This day\, originally scheduled as a no VPK day\, is being utilized as a hurricane makeup day.
URL:https://sacredheartecc.com/calendar/no-vpk-shecc-open-3/
CATEGORIES:Daycare Event
END:VEVENT
END:VCALENDAR